BEGIN:VCALENDAR
VERSION:2.0
PRODID:-//Gartenarbeitsschule Pankow - ECPv6.15.20//NONSGML v1.0//EN
CALSCALE:GREGORIAN
METHOD:PUBLISH
X-WR-CALNAME:Gartenarbeitsschule Pankow
X-ORIGINAL-URL:https://gartenarbeitsschule-pankow.de
X-WR-CALDESC:Veranstaltungen für Gartenarbeitsschule Pankow
REFRESH-INTERVAL;VALUE=DURATION:PT1H
X-Robots-Tag:noindex
X-PUBLISHED-TTL:PT1H
BEGIN:VTIMEZONE
TZID:Europe/Berlin
BEGIN:DAYLIGHT
TZOFFSETFROM:+0100
TZOFFSETTO:+0200
TZNAME:CEST
DTSTART:20250330T010000
END:DAYLIGHT
BEGIN:STANDARD
TZOFFSETFROM:+0200
TZOFFSETTO:+0100
TZNAME:CET
DTSTART:20251026T010000
END:STANDARD
BEGIN:DAYLIGHT
TZOFFSETFROM:+0100
TZOFFSETTO:+0200
TZNAME:CEST
DTSTART:20260329T010000
END:DAYLIGHT
BEGIN:STANDARD
TZOFFSETFROM:+0200
TZOFFSETTO:+0100
TZNAME:CET
DTSTART:20261025T010000
END:STANDARD
BEGIN:DAYLIGHT
TZOFFSETFROM:+0100
TZOFFSETTO:+0200
TZNAME:CEST
DTSTART:20270328T010000
END:DAYLIGHT
BEGIN:STANDARD
TZOFFSETFROM:+0200
TZOFFSETTO:+0100
TZNAME:CET
DTSTART:20271031T010000
END:STANDARD
END:VTIMEZONE
BEGIN:VEVENT
DTSTART;TZID=Europe/Berlin:20260420T090000
DTEND;TZID=Europe/Berlin:20260420T120000
DTSTAMP:20260420T121926
CREATED:20251215T070011Z
LAST-MODIFIED:20251212T094925Z
UID:2143-1776675600-1776686400@gartenarbeitsschule-pankow.de
SUMMARY:Klasse 3-6: Klimawandel
DESCRIPTION:Klimawandel \n \nAnmeldung zu einem Projekt in der Gartenarbeitsschule Pankow. Sie bekommen eine E-Mail zur Bestätigung.
URL:https://gartenarbeitsschule-pankow.de/event/klasse-3-6-klimawandel-17/
END:VEVENT
END:VCALENDAR